BEGIN:VCALENDAR
VERSION:2.0
PRODID:-//Vancouver Dodgeball League - ECPv6.15.20//NONSGML v1.0//EN
CALSCALE:GREGORIAN
METHOD:PUBLISH
X-WR-CALNAME:Vancouver Dodgeball League
X-ORIGINAL-URL:https://www.vdldodgeball.ca
X-WR-CALDESC:Events for Vancouver Dodgeball League
REFRESH-INTERVAL;VALUE=DURATION:PT1H
X-Robots-Tag:noindex
X-PUBLISHED-TTL:PT1H
BEGIN:VTIMEZONE
TZID:America/Vancouver
BEGIN:DAYLIGHT
TZOFFSETFROM:-0800
TZOFFSETTO:-0700
TZNAME:PDT
DTSTART:20250309T100000
END:DAYLIGHT
BEGIN:STANDARD
TZOFFSETFROM:-0700
TZOFFSETTO:-0800
TZNAME:PST
DTSTART:20251102T090000
END:STANDARD
BEGIN:DAYLIGHT
TZOFFSETFROM:-0800
TZOFFSETTO:-0700
TZNAME:PDT
DTSTART:20260308T100000
END:DAYLIGHT
BEGIN:STANDARD
TZOFFSETFROM:-0700
TZOFFSETTO:-0800
TZNAME:PST
DTSTART:20261101T090000
END:STANDARD
BEGIN:DAYLIGHT
TZOFFSETFROM:-0800
TZOFFSETTO:-0700
TZNAME:PDT
DTSTART:20270314T100000
END:DAYLIGHT
BEGIN:STANDARD
TZOFFSETFROM:-0700
TZOFFSETTO:-0800
TZNAME:PST
DTSTART:20271107T090000
END:STANDARD
END:VTIMEZONE
BEGIN:VEVENT
DTSTART;TZID=America/Vancouver:20260427T190000
DTEND;TZID=America/Vancouver:20260427T213000
DTSTAMP:20260422T045105
CREATED:20251210T010339Z
LAST-MODIFIED:20260402T202640Z
UID:35863-1777316400-1777325400@www.vdldodgeball.ca
SUMMARY:Monday Drop Ins
DESCRIPTION:Join us for Monday Drop-Ins!\n$5 for vets\, free for new players \nQuestions? Email monday@vdldodgeball.ca \nREGISTRATION FORM
URL:https://www.vdldodgeball.ca/event/monday-drop-ins-4/
LOCATION:Charles Dickens Elementary\, 1010 E 17th Ave\, Vancouver\, British Columbia\, V5V 0A6\, Canada
CATEGORIES:Drop In Sessions
END:VEVENT
BEGIN:VEVENT
DTSTART;TZID=America/Vancouver:20260506T190000
DTEND;TZID=America/Vancouver:20260506T203000
DTSTAMP:20260422T045105
CREATED:20251119T235712Z
LAST-MODIFIED:20251119T235712Z
UID:35377-1778094000-1778099400@www.vdldodgeball.ca
SUMMARY:Women's / Non-Binary Drop-In
DESCRIPTION:Join us for a Women’s / Non-Binary Division Drop-In!\nWhether you’re looking to sharpen your skills or learn the game from scratch\, this is the perfect night for you in a safe space! \nThe evening will include: \n\nRules demos\nLive gameplay\nFun pick-up games\n\nBring a friend\, bring your team\, or just bring yourself … everyone’s welcome!\n*Please note this drop-in is for female identifying and non-binary players only.* \nCosts: \n\n$5 for veterans (those with more than two seasons under their belt)–> cash preferred\, but we can accept debit/credit or e-transfer\nFREE for brand-new players\n\nREGISTRATION FORM
URL:https://www.vdldodgeball.ca/event/womens-non-binary-drop-in-5/
LOCATION:David Thompson Secondary School\, 1755 E 55th Ave\, Vancouver\, British Columbia\, V5P 1Z7\, Canada
CATEGORIES:Drop In Sessions
END:VEVENT
BEGIN:VEVENT
DTSTART;TZID=America/Vancouver:20260506T203000
DTEND;TZID=America/Vancouver:20260506T220000
DTSTAMP:20260422T045105
CREATED:20260106T234154Z
LAST-MODIFIED:20260106T234154Z
UID:36998-1778099400-1778104800@www.vdldodgeball.ca
SUMMARY:Queer Drop-In
DESCRIPTION:These are Queer Div drop-ins and welcome to ALL players\, please respect the queer space. \nCosts: \n\nFREE FOR NEW PLAYERS!!!\nIf you’re a returning player\, it’s $5 each.\n\nREGISTRATION FORM \n* Please note this drop-in will be primarily for the LGBTQIA2S+ community\, but will be open to allies. Please be conscious and respectful to others pronoun and use neutral language such as\, “they\, them\, players\, folks\, everyone\, all\, etc.”
URL:https://www.vdldodgeball.ca/event/queer-drop-in-7/
LOCATION:David Thompson Secondary School\, 1755 E 55th Ave\, Vancouver\, British Columbia\, V5P 1Z7\, Canada
CATEGORIES:Drop In Sessions
END:VEVENT
BEGIN:VEVENT
DTSTART;TZID=America/Vancouver:20260606T080000
DTEND;TZID=America/Vancouver:20260607T170000
DTSTAMP:20260422T045105
CREATED:20260413T233014Z
LAST-MODIFIED:20260413T233014Z
UID:37341-1780732800-1780851600@www.vdldodgeball.ca
SUMMARY:Tournament of Champions 2026
DESCRIPTION:This is where the top teams show up.\nHigh-level games. No easy matchups. Every point matters. \nWe’ve got **Open and Competitive divisions** — whether you’re here to experience the tournament or prove you belong at the top\, there’s a spot for you. \nIf you think your team belongs here — now’s the time to show it. \nSpots are limited and won’t last.\nLock in your team today.
URL:https://www.vdldodgeball.ca/event/tournament-of-champions-2026/
LOCATION:David Thompson Secondary School\, 1755 E 55th Ave\, Vancouver\, British Columbia\, V5P 1Z7\, Canada
CATEGORIES:Tournament
ORGANIZER;CN="Vancouver Dodgeball League":MAILTO:info@vdldodgeball.ca
END:VEVENT
END:VCALENDAR