BEGIN:VCALENDAR
VERSION:2.0
PRODID:-//Vancouver Dodgeball League - ECPv6.15.20//NONSGML v1.0//EN
CALSCALE:GREGORIAN
METHOD:PUBLISH
X-WR-CALNAME:Vancouver Dodgeball League
X-ORIGINAL-URL:https://www.vdldodgeball.ca
X-WR-CALDESC:Events for Vancouver Dodgeball League
REFRESH-INTERVAL;VALUE=DURATION:PT1H
X-Robots-Tag:noindex
X-PUBLISHED-TTL:PT1H
BEGIN:VTIMEZONE
TZID:America/Vancouver
BEGIN:DAYLIGHT
TZOFFSETFROM:-0800
TZOFFSETTO:-0700
TZNAME:PDT
DTSTART:20250309T100000
END:DAYLIGHT
BEGIN:STANDARD
TZOFFSETFROM:-0700
TZOFFSETTO:-0800
TZNAME:PST
DTSTART:20251102T090000
END:STANDARD
BEGIN:DAYLIGHT
TZOFFSETFROM:-0800
TZOFFSETTO:-0700
TZNAME:PDT
DTSTART:20260308T100000
END:DAYLIGHT
BEGIN:STANDARD
TZOFFSETFROM:-0700
TZOFFSETTO:-0800
TZNAME:PST
DTSTART:20261101T090000
END:STANDARD
BEGIN:DAYLIGHT
TZOFFSETFROM:-0800
TZOFFSETTO:-0700
TZNAME:PDT
DTSTART:20270314T100000
END:DAYLIGHT
BEGIN:STANDARD
TZOFFSETFROM:-0700
TZOFFSETTO:-0800
TZNAME:PST
DTSTART:20271107T090000
END:STANDARD
END:VTIMEZONE
BEGIN:VEVENT
DTSTART;TZID=America/Vancouver:20260119T203000
DTEND;TZID=America/Vancouver:20260119T220000
DTSTAMP:20260424T122107
CREATED:20260106T234001Z
LAST-MODIFIED:20260106T234046Z
UID:36991-1768854600-1768860000@www.vdldodgeball.ca
SUMMARY:Queer Drop-In
DESCRIPTION:These are Queer Div drop-ins and welcome to ALL players\, please respect the queer space. \nCosts: \n\nFREE FOR NEW PLAYERS!!!\nIf you’re a returning player\, it’s $5 each.\n\nREGISTRATION FORM \n* Please note this drop-in will be primarily for the LGBTQIA2S+ community\, but will be open to allies. Please be conscious and respectful to others pronoun and use neutral language such as\, “they\, them\, players\, folks\, everyone\, all\, etc.”
URL:https://www.vdldodgeball.ca/event/queer-drop-in-4/
LOCATION:David Thompson Secondary School\, 1755 E 55th Ave\, Vancouver\, British Columbia\, V5P 1Z7\, Canada
CATEGORIES:Drop In Sessions
END:VEVENT
BEGIN:VEVENT
DTSTART;TZID=America/Vancouver:20260126T190000
DTEND;TZID=America/Vancouver:20260126T213000
DTSTAMP:20260424T122107
CREATED:20251210T010221Z
LAST-MODIFIED:20251210T010235Z
UID:35856-1769454000-1769463000@www.vdldodgeball.ca
SUMMARY:Monday Drop Ins
DESCRIPTION:Join us for Monday Drop-Ins!\n$5 for vets\, free for new players \nQuestions? Email monday@vdldodgeball.ca \nREGISTRATION FORM
URL:https://www.vdldodgeball.ca/event/monday-drop-ins/
LOCATION:Charles Dickens Elementary\, 1010 E 17th Ave\, Vancouver\, British Columbia\, V5V 0A6\, Canada
CATEGORIES:Drop In Sessions
END:VEVENT
BEGIN:VEVENT
DTSTART;TZID=America/Vancouver:20260126T203000
DTEND;TZID=America/Vancouver:20260126T220000
DTSTAMP:20260424T122107
CREATED:20260106T234121Z
LAST-MODIFIED:20260106T234121Z
UID:36994-1769459400-1769464800@www.vdldodgeball.ca
SUMMARY:Queer Drop-In
DESCRIPTION:These are Queer Div drop-ins and welcome to ALL players\, please respect the queer space. \nCosts: \n\nFREE FOR NEW PLAYERS!!!\nIf you’re a returning player\, it’s $5 each.\n\nREGISTRATION FORM \n* Please note this drop-in will be primarily for the LGBTQIA2S+ community\, but will be open to allies. Please be conscious and respectful to others pronoun and use neutral language such as\, “they\, them\, players\, folks\, everyone\, all\, etc.”
URL:https://www.vdldodgeball.ca/event/queer-drop-in-5/
LOCATION:David Thompson Secondary School\, 1755 E 55th Ave\, Vancouver\, British Columbia\, V5P 1Z7\, Canada
CATEGORIES:Drop In Sessions
END:VEVENT
BEGIN:VEVENT
DTSTART;TZID=America/Vancouver:20260127T183000
DTEND;TZID=America/Vancouver:20260127T200000
DTSTAMP:20260424T122107
CREATED:20251119T234753Z
LAST-MODIFIED:20251119T235453Z
UID:35364-1769538600-1769544000@www.vdldodgeball.ca
SUMMARY:Women's / Non-Binary Drop-In
DESCRIPTION:Join us for a Women’s / Non-Binary Division Drop-In!\nWhether you’re looking to sharpen your skills or learn the game from scratch\, this is the perfect night for you in a safe space! \nThe evening will include: \n\nRules demos\nLive gameplay\nFun pick-up games\n\nBring a friend\, bring your team\, or just bring yourself … everyone’s welcome!\n*Please note this drop-in is for female identifying and non-binary players only.* \nCosts: \n\n$5 for veterans (those with more than two seasons under their belt)–> cash preferred\, but we can accept debit/credit or e-transfer\nFREE for brand-new players\n\nREGISTRATION FORM
URL:https://www.vdldodgeball.ca/event/womens-non-binary-drop-in/
LOCATION:Charles Dickens Elementary\, 1010 E 17th Ave\, Vancouver\, British Columbia\, V5V 0A6\, Canada
CATEGORIES:Drop In Sessions
END:VEVENT
BEGIN:VEVENT
DTSTART;TZID=America/Vancouver:20260128T190000
DTEND;TZID=America/Vancouver:20260129T213000
DTSTAMP:20260424T122107
CREATED:20251210T010528Z
LAST-MODIFIED:20251210T010625Z
UID:35865-1769626800-1769722200@www.vdldodgeball.ca
SUMMARY:Pre season Drop Ins
DESCRIPTION:Join us for some pre season Drop-Ins!\n$5 or winter clothing donation (for Big Brothers of Greater Vancouver) \nWhen: January 28 & 29 from 7 – 9:30pm\nWhere: Charles Dickens Elementary  \nREGISTRATION FORM
URL:https://www.vdldodgeball.ca/event/pre-season-drop-ins/
LOCATION:Charles Dickens Elementary\, 1010 E 17th Ave\, Vancouver\, British Columbia\, V5V 0A6\, Canada
CATEGORIES:Drop In Sessions
END:VEVENT
END:VCALENDAR