BEGIN:VCALENDAR
VERSION:2.0
PRODID:-//Vancouver Dodgeball League - ECPv6.15.20//NONSGML v1.0//EN
CALSCALE:GREGORIAN
METHOD:PUBLISH
X-ORIGINAL-URL:https://www.vdldodgeball.ca
X-WR-CALDESC:Events for Vancouver Dodgeball League
REFRESH-INTERVAL;VALUE=DURATION:PT1H
X-Robots-Tag:noindex
X-PUBLISHED-TTL:PT1H
BEGIN:VTIMEZONE
TZID:America/Vancouver
BEGIN:DAYLIGHT
TZOFFSETFROM:-0800
TZOFFSETTO:-0700
TZNAME:PDT
DTSTART:20250309T100000
END:DAYLIGHT
BEGIN:STANDARD
TZOFFSETFROM:-0700
TZOFFSETTO:-0800
TZNAME:PST
DTSTART:20251102T090000
END:STANDARD
BEGIN:DAYLIGHT
TZOFFSETFROM:-0800
TZOFFSETTO:-0700
TZNAME:PDT
DTSTART:20260308T100000
END:DAYLIGHT
BEGIN:STANDARD
TZOFFSETFROM:-0700
TZOFFSETTO:-0800
TZNAME:PST
DTSTART:20261101T090000
END:STANDARD
BEGIN:DAYLIGHT
TZOFFSETFROM:-0800
TZOFFSETTO:-0700
TZNAME:PDT
DTSTART:20270314T100000
END:DAYLIGHT
BEGIN:STANDARD
TZOFFSETFROM:-0700
TZOFFSETTO:-0800
TZNAME:PST
DTSTART:20271107T090000
END:STANDARD
END:VTIMEZONE
BEGIN:VEVENT
DTSTART;TZID=America/Vancouver:20260203T183000
DTEND;TZID=America/Vancouver:20260203T214500
DTSTAMP:20260424T111959
CREATED:20251119T235601Z
LAST-MODIFIED:20260130T010957Z
UID:35371-1770143400-1770155100@www.vdldodgeball.ca
SUMMARY:Women's / Non-Binary Drop-In
DESCRIPTION:Join us for a Women’s / Non-Binary Division Drop-In!\nWhether you’re looking to sharpen your skills or learn the game from scratch\, this is the perfect night for you in a safe space! \nThe evening will include: \n\nRules demos\nLive gameplay\nFun pick-up games\n\nBring a friend\, bring your team\, or just bring yourself … everyone’s welcome!\n*Please note this drop-in is for female identifying and non-binary players only.* \nCosts: \n\n$5 for veterans (those with more than two seasons under their belt)–> cash preferred\, but we can accept debit/credit or e-transfer\nFREE for brand-new players\n\nREGISTRATION FORM
URL:https://www.vdldodgeball.ca/event/womens-non-binary-drop-in-2/
LOCATION:Cunningham Elementary School\, 2330 E 37th Ave\, Vancouver\, British Columbia\, V5R 2T3\, Canada
CATEGORIES:Drop In Sessions
END:VEVENT
BEGIN:VEVENT
DTSTART;TZID=America/Vancouver:20260224T200000
DTEND;TZID=America/Vancouver:20260224T214500
DTSTAMP:20260424T111959
CREATED:20251120T000106Z
LAST-MODIFIED:20251120T000202Z
UID:35379-1771963200-1771969500@www.vdldodgeball.ca
SUMMARY:Women’s / Non-Binary Skills Clinic
DESCRIPTION:Join us for a Women’s / Non-Binary Skills Clinic!\nVDL’s Skills Clinic aims to teach players foundational skills for dodgeball\, prevent injuries and open player’s minds up to various strategies used to play the game. \nThe evening will include: \n\nTopics covered throwing\, catching and blocking plus game play\n\nCosts: \n\n$5/person\n\nREGISTRATION FORM
URL:https://www.vdldodgeball.ca/event/womens-non-binary-skills-clinic/
LOCATION:Cunningham Elementary School\, 2330 E 37th Ave\, Vancouver\, British Columbia\, V5R 2T3\, Canada
CATEGORIES:Drop In Sessions
END:VEVENT
END:VCALENDAR