BEGIN:VCALENDAR
VERSION:2.0
PRODID:-//Vancouver Dodgeball League - ECPv6.15.20//NONSGML v1.0//EN
CALSCALE:GREGORIAN
METHOD:PUBLISH
X-ORIGINAL-URL:https://www.vdldodgeball.ca
X-WR-CALDESC:Events for Vancouver Dodgeball League
REFRESH-INTERVAL;VALUE=DURATION:PT1H
X-Robots-Tag:noindex
X-PUBLISHED-TTL:PT1H
BEGIN:VTIMEZONE
TZID:America/Vancouver
BEGIN:DAYLIGHT
TZOFFSETFROM:-0800
TZOFFSETTO:-0700
TZNAME:PDT
DTSTART:20240310T100000
END:DAYLIGHT
BEGIN:STANDARD
TZOFFSETFROM:-0700
TZOFFSETTO:-0800
TZNAME:PST
DTSTART:20241103T090000
END:STANDARD
BEGIN:DAYLIGHT
TZOFFSETFROM:-0800
TZOFFSETTO:-0700
TZNAME:PDT
DTSTART:20250309T100000
END:DAYLIGHT
BEGIN:STANDARD
TZOFFSETFROM:-0700
TZOFFSETTO:-0800
TZNAME:PST
DTSTART:20251102T090000
END:STANDARD
BEGIN:DAYLIGHT
TZOFFSETFROM:-0800
TZOFFSETTO:-0700
TZNAME:PDT
DTSTART:20260308T100000
END:DAYLIGHT
BEGIN:STANDARD
TZOFFSETFROM:-0700
TZOFFSETTO:-0800
TZNAME:PST
DTSTART:20261101T090000
END:STANDARD
END:VTIMEZONE
BEGIN:VEVENT
DTSTART;TZID=America/Vancouver:20250909T183000
DTEND;TZID=America/Vancouver:20250909T200000
DTSTAMP:20260424T183007
CREATED:20250909T013146Z
LAST-MODIFIED:20250909T013451Z
UID:35009-1757442600-1757448000@www.vdldodgeball.ca
SUMMARY:Women's Drop-In
DESCRIPTION:Bring a friend on Tuesday September 9th\, 2025 to the Women’s drop-in from 6:30pm-8pm at Cunningham Elementary. Register here. \n\nFree for registered women’s players\nFree for new players\n$5 for VDL players
URL:https://www.vdldodgeball.ca/event/womens-drop-in/
LOCATION:Cunningham Elementary School\, 2330 E 37th Ave\, Vancouver\, British Columbia\, V5R 2T3\, Canada
CATEGORIES:Drop In Sessions
ORGANIZER;CN="Vancouver Dodgeball League":MAILTO:info@vdldodgeball.ca
END:VEVENT
BEGIN:VEVENT
DTSTART;TZID=America/Vancouver:20250909T200000
DTEND;TZID=America/Vancouver:20250909T214500
DTSTAMP:20260424T183007
CREATED:20250909T013656Z
LAST-MODIFIED:20250909T013656Z
UID:35014-1757448000-1757454300@www.vdldodgeball.ca
SUMMARY:Queer Drop-In
DESCRIPTION:Queer drop-in Tuesday September 9th\, 2025 at 8pm-9:45pm at Cunningham Elementary. Register for the September 9th Queer drop-in here.   \n\nFree for new players\n$5 for VDL players
URL:https://www.vdldodgeball.ca/event/queer-drop-in/
LOCATION:Cunningham Elementary School\, 2330 E 37th Ave\, Vancouver\, British Columbia\, V5R 2T3\, Canada
CATEGORIES:Drop In Sessions
ORGANIZER;CN="Vancouver Dodgeball League":MAILTO:info@vdldodgeball.ca
END:VEVENT
END:VCALENDAR