BEGIN:VCALENDAR
VERSION:2.0
PRODID:-//Vancouver Dodgeball League - ECPv6.15.20//NONSGML v1.0//EN
CALSCALE:GREGORIAN
METHOD:PUBLISH
X-ORIGINAL-URL:https://www.vdldodgeball.ca
X-WR-CALDESC:Events for Vancouver Dodgeball League
REFRESH-INTERVAL;VALUE=DURATION:PT1H
X-Robots-Tag:noindex
X-PUBLISHED-TTL:PT1H
BEGIN:VTIMEZONE
TZID:America/Vancouver
BEGIN:DAYLIGHT
TZOFFSETFROM:-0800
TZOFFSETTO:-0700
TZNAME:PDT
DTSTART:20240310T100000
END:DAYLIGHT
BEGIN:STANDARD
TZOFFSETFROM:-0700
TZOFFSETTO:-0800
TZNAME:PST
DTSTART:20241103T090000
END:STANDARD
BEGIN:DAYLIGHT
TZOFFSETFROM:-0800
TZOFFSETTO:-0700
TZNAME:PDT
DTSTART:20250309T100000
END:DAYLIGHT
BEGIN:STANDARD
TZOFFSETFROM:-0700
TZOFFSETTO:-0800
TZNAME:PST
DTSTART:20251102T090000
END:STANDARD
BEGIN:DAYLIGHT
TZOFFSETFROM:-0800
TZOFFSETTO:-0700
TZNAME:PDT
DTSTART:20260308T100000
END:DAYLIGHT
BEGIN:STANDARD
TZOFFSETFROM:-0700
TZOFFSETTO:-0800
TZNAME:PST
DTSTART:20261101T090000
END:STANDARD
END:VTIMEZONE
BEGIN:VEVENT
DTSTART;TZID=America/Vancouver:20250910T190000
DTEND;TZID=America/Vancouver:20250910T203000
DTSTAMP:20260424T182930
CREATED:20250909T013822Z
LAST-MODIFIED:20250909T013835Z
UID:35016-1757530800-1757536200@www.vdldodgeball.ca
SUMMARY:Womens x Queer Drop-In
DESCRIPTION:If you can’t make September 9th\, we’re also having another drop-in on Wednesday September 10th at David Thompson from 7pm-8:30pm for Womens x Queer Drop-In (everyone is welcome at this drop-in so there could be male identifying players at this timeslot). Register for the September 10th drop-in here.  \n\nFree for new players\n$5 for VDL players
URL:https://www.vdldodgeball.ca/event/womens-x-queer-drop-in/
LOCATION:David Thompson Secondary School\, 1755 E 55th Ave\, Vancouver\, British Columbia\, V5P 1Z7\, Canada
CATEGORIES:Drop In Sessions
ORGANIZER;CN="Vancouver Dodgeball League":MAILTO:info@vdldodgeball.ca
END:VEVENT
END:VCALENDAR