BEGIN:VCALENDAR
VERSION:2.0
PRODID:-//Vancouver Dodgeball League - ECPv6.15.20//NONSGML v1.0//EN
CALSCALE:GREGORIAN
METHOD:PUBLISH
X-ORIGINAL-URL:https://www.vdldodgeball.ca
X-WR-CALDESC:Events for Vancouver Dodgeball League
REFRESH-INTERVAL;VALUE=DURATION:PT1H
X-Robots-Tag:noindex
X-PUBLISHED-TTL:PT1H
BEGIN:VTIMEZONE
TZID:America/Vancouver
BEGIN:DAYLIGHT
TZOFFSETFROM:-0800
TZOFFSETTO:-0700
TZNAME:PDT
DTSTART:20240310T100000
END:DAYLIGHT
BEGIN:STANDARD
TZOFFSETFROM:-0700
TZOFFSETTO:-0800
TZNAME:PST
DTSTART:20241103T090000
END:STANDARD
BEGIN:DAYLIGHT
TZOFFSETFROM:-0800
TZOFFSETTO:-0700
TZNAME:PDT
DTSTART:20250309T100000
END:DAYLIGHT
BEGIN:STANDARD
TZOFFSETFROM:-0700
TZOFFSETTO:-0800
TZNAME:PST
DTSTART:20251102T090000
END:STANDARD
BEGIN:DAYLIGHT
TZOFFSETFROM:-0800
TZOFFSETTO:-0700
TZNAME:PDT
DTSTART:20260308T100000
END:DAYLIGHT
BEGIN:STANDARD
TZOFFSETFROM:-0700
TZOFFSETTO:-0800
TZNAME:PST
DTSTART:20261101T090000
END:STANDARD
END:VTIMEZONE
BEGIN:VEVENT
DTSTART;TZID=America/Vancouver:20251124T203000
DTEND;TZID=America/Vancouver:20251124T214500
DTSTAMP:20260424T155346
CREATED:20251119T234041Z
LAST-MODIFIED:20251119T234135Z
UID:35361-1764016200-1764020700@www.vdldodgeball.ca
SUMMARY:Queer Drop-In
DESCRIPTION:(All players welcome please just note that this is a queer inclusive space.) \nPrice: Free for new Players\, $5 or non-perishable food item(s) for everyone else\n(All proceeds goes to the Greater Vancouver Food Bank) \nRegister Here
URL:https://www.vdldodgeball.ca/event/queer-drop-in-3/
LOCATION:David Thompson Secondary School\, 1755 E 55th Ave\, Vancouver\, British Columbia\, V5P 1Z7\, Canada
CATEGORIES:Drop In Sessions
END:VEVENT
END:VCALENDAR