BEGIN:VCALENDAR
VERSION:2.0
PRODID:-//Vancouver Dodgeball League - ECPv6.15.20//NONSGML v1.0//EN
CALSCALE:GREGORIAN
METHOD:PUBLISH
X-WR-CALNAME:Vancouver Dodgeball League
X-ORIGINAL-URL:https://www.vdldodgeball.ca
X-WR-CALDESC:Events for Vancouver Dodgeball League
REFRESH-INTERVAL;VALUE=DURATION:PT1H
X-Robots-Tag:noindex
X-PUBLISHED-TTL:PT1H
BEGIN:VTIMEZONE
TZID:America/Vancouver
BEGIN:DAYLIGHT
TZOFFSETFROM:-0800
TZOFFSETTO:-0700
TZNAME:PDT
DTSTART:20230312T100000
END:DAYLIGHT
BEGIN:STANDARD
TZOFFSETFROM:-0700
TZOFFSETTO:-0800
TZNAME:PST
DTSTART:20231105T090000
END:STANDARD
BEGIN:DAYLIGHT
TZOFFSETFROM:-0800
TZOFFSETTO:-0700
TZNAME:PDT
DTSTART:20240310T100000
END:DAYLIGHT
BEGIN:STANDARD
TZOFFSETFROM:-0700
TZOFFSETTO:-0800
TZNAME:PST
DTSTART:20241103T090000
END:STANDARD
BEGIN:DAYLIGHT
TZOFFSETFROM:-0800
TZOFFSETTO:-0700
TZNAME:PDT
DTSTART:20250309T100000
END:DAYLIGHT
BEGIN:STANDARD
TZOFFSETFROM:-0700
TZOFFSETTO:-0800
TZNAME:PST
DTSTART:20251102T090000
END:STANDARD
BEGIN:DAYLIGHT
TZOFFSETFROM:-0800
TZOFFSETTO:-0700
TZNAME:PDT
DTSTART:20260308T100000
END:DAYLIGHT
BEGIN:STANDARD
TZOFFSETFROM:-0700
TZOFFSETTO:-0800
TZNAME:PST
DTSTART:20261101T090000
END:STANDARD
BEGIN:DAYLIGHT
TZOFFSETFROM:-0800
TZOFFSETTO:-0700
TZNAME:PDT
DTSTART:20270314T100000
END:DAYLIGHT
BEGIN:STANDARD
TZOFFSETFROM:-0700
TZOFFSETTO:-0800
TZNAME:PST
DTSTART:20271107T090000
END:STANDARD
END:VTIMEZONE
BEGIN:VEVENT
DTSTART;TZID=America/Vancouver:20260411T190000
DTEND;TZID=America/Vancouver:20260412T000000
DTSTAMP:20260424T132751
CREATED:20260310T084619Z
LAST-MODIFIED:20260407T042205Z
UID:37242-1775934000-1775952000@www.vdldodgeball.ca
SUMMARY:VDL S38 Pub Night - BLACK OUT: All Black Everything
DESCRIPTION:It’s that time of year again! VDL is happy to invite you to our infamous pub night! \nJoin us at Greta Bar YVR for a night of games\, drinks\, and partying with players from across the league! \nDress Code: all black attire! \nEarly Bird Tickets: $20 (until March 22) \nRegular Tickets: $30 \nTickets include a drink\, 2 hours of gaming\, coat check\, and an entry to the door prize raffle. \nCome for the games\, stay for the party\, and don’t forget to dress in black. \nGet your tickets before tickets sell out
URL:https://www.vdldodgeball.ca/event/vdl-s38-pub-night-black-out-all-black-everything/
LOCATION:Greta Bar YVR\, 50 W Cordova St\, Vancouver\, BC\, V6B 1C8\, Canada
CATEGORIES:Social
END:VEVENT
BEGIN:VEVENT
DTSTART;TZID=America/Vancouver:20260129T200000
DTEND;TZID=America/Vancouver:20260129T214500
DTSTAMP:20260424T132751
CREATED:20260106T233246Z
LAST-MODIFIED:20260106T233609Z
UID:36986-1769716800-1769723100@www.vdldodgeball.ca
SUMMARY:VDL Queer Dodge and Plunge
DESCRIPTION:Wanting to connect with other players outside of the gym\, join us for our first VDL Queer Dodge and Plunge event. Join us for some fun in the sauna\, cold plunge and fire side recovery area. We can’t wait to see you! \nOnly 16 spots available!
URL:https://www.vdldodgeball.ca/event/queer-dodge-and-plunge/
LOCATION:The Good Sauna\, 1216 Franklin St\, Container Brewery\, Vancouver\, British Columbia\, V6A 1K1\, Canada
CATEGORIES:Social
END:VEVENT
BEGIN:VEVENT
DTSTART;TZID=America/Vancouver:20241026T180000
DTEND;TZID=America/Vancouver:20241026T235900
DTSTAMP:20260424T132751
CREATED:20240929T052454Z
LAST-MODIFIED:20241011T205654Z
UID:33903-1729965600-1729987140@www.vdldodgeball.ca
SUMMARY:S35 Pub Night: Monster Ball
DESCRIPTION:Get ready to unleash your inner monster on the dance floor. VDL’s “Monster Ball” themed pub night is happening on October 26\, 2024!  Wear your spookiest costume and join us for a night of frights\, fun\, and festivities! Don’t miss out on THE Halloween party of the season! \nDate: Saturday\, October 26\, 2024\nTime: 6pm – 12am\nLocation: Habitat Pub at BCIT\nPrice: $20/ticket – buy tickets from the League Ops Coordinators at the gyms! \nCheck out the photos from last season’s “It’s Not a Phase” Pub Night!
URL:https://www.vdldodgeball.ca/event/s35-pub-night-monster-ball/
LOCATION:Habitat Pub\, 3700 Willingdon Ave\, Burnaby\, British Columbia\, V5G 3H2\, Canada
CATEGORIES:Social
ATTACH;FMTTYPE=image/jpeg:https://www.vdldodgeball.ca/wp-content/uploads/2024/09/WhatsApp-Image-2024-09-27-at-01.18.40.jpeg
END:VEVENT
END:VCALENDAR