BEGIN:VCALENDAR
VERSION:2.0
PRODID:-//Vancouver Dodgeball League - ECPv6.15.20//NONSGML v1.0//EN
CALSCALE:GREGORIAN
METHOD:PUBLISH
X-ORIGINAL-URL:https://www.vdldodgeball.ca
X-WR-CALDESC:Events for Vancouver Dodgeball League
REFRESH-INTERVAL;VALUE=DURATION:PT1H
X-Robots-Tag:noindex
X-PUBLISHED-TTL:PT1H
BEGIN:VTIMEZONE
TZID:America/Vancouver
BEGIN:DAYLIGHT
TZOFFSETFROM:-0800
TZOFFSETTO:-0700
TZNAME:PDT
DTSTART:20250309T100000
END:DAYLIGHT
BEGIN:STANDARD
TZOFFSETFROM:-0700
TZOFFSETTO:-0800
TZNAME:PST
DTSTART:20251102T090000
END:STANDARD
BEGIN:DAYLIGHT
TZOFFSETFROM:-0800
TZOFFSETTO:-0700
TZNAME:PDT
DTSTART:20260308T100000
END:DAYLIGHT
BEGIN:STANDARD
TZOFFSETFROM:-0700
TZOFFSETTO:-0800
TZNAME:PST
DTSTART:20261101T090000
END:STANDARD
BEGIN:DAYLIGHT
TZOFFSETFROM:-0800
TZOFFSETTO:-0700
TZNAME:PDT
DTSTART:20270314T100000
END:DAYLIGHT
BEGIN:STANDARD
TZOFFSETFROM:-0700
TZOFFSETTO:-0800
TZNAME:PST
DTSTART:20271107T090000
END:STANDARD
END:VTIMEZONE
BEGIN:VEVENT
DTSTART;TZID=America/Vancouver:20260321T093000
DTEND;TZID=America/Vancouver:20260321T163000
DTSTAMP:20260424T133200
CREATED:20251210T005425Z
LAST-MODIFIED:20260304T235353Z
UID:35851-1774085400-1774110600@www.vdldodgeball.ca
SUMMARY:Dodge For The Cure
DESCRIPTION:Our biggest fundraiser of the year is on its way!\nNew to Dodge for the Cure? Here’s the scoop: DFTC is a full co-ed draft tournament where teams compete not only on the court\, but also in a friendly fundraising showdown to see who can raise the most for the BC Cancer Foundation. Over the last few years\, VDL’s DFTC tournament has raised more than $100\,000 … and we’re just getting started! \nCheck Out Photos From Last Year \nDodgeball Style: VDL rules with 8.25″ balls\nTeams: Players will be drafted into teams.  \nRegister Now
URL:https://www.vdldodgeball.ca/event/dodge-for-the-cure/
LOCATION:David Thompson Secondary School\, 1755 E 55th Ave\, Vancouver\, British Columbia\, V5P 1Z7\, Canada
CATEGORIES:Tournament
END:VEVENT
END:VCALENDAR