BEGIN:VCALENDAR
VERSION:2.0
PRODID:-//Vancouver Dodgeball League - ECPv6.15.20//NONSGML v1.0//EN
CALSCALE:GREGORIAN
METHOD:PUBLISH
X-WR-CALNAME:Vancouver Dodgeball League
X-ORIGINAL-URL:https://www.vdldodgeball.ca
X-WR-CALDESC:Events for Vancouver Dodgeball League
REFRESH-INTERVAL;VALUE=DURATION:PT1H
X-Robots-Tag:noindex
X-PUBLISHED-TTL:PT1H
BEGIN:VTIMEZONE
TZID:America/Vancouver
BEGIN:DAYLIGHT
TZOFFSETFROM:-0800
TZOFFSETTO:-0700
TZNAME:PDT
DTSTART:20230312T100000
END:DAYLIGHT
BEGIN:STANDARD
TZOFFSETFROM:-0700
TZOFFSETTO:-0800
TZNAME:PST
DTSTART:20231105T090000
END:STANDARD
BEGIN:DAYLIGHT
TZOFFSETFROM:-0800
TZOFFSETTO:-0700
TZNAME:PDT
DTSTART:20240310T100000
END:DAYLIGHT
BEGIN:STANDARD
TZOFFSETFROM:-0700
TZOFFSETTO:-0800
TZNAME:PST
DTSTART:20241103T090000
END:STANDARD
BEGIN:DAYLIGHT
TZOFFSETFROM:-0800
TZOFFSETTO:-0700
TZNAME:PDT
DTSTART:20250309T100000
END:DAYLIGHT
BEGIN:STANDARD
TZOFFSETFROM:-0700
TZOFFSETTO:-0800
TZNAME:PST
DTSTART:20251102T090000
END:STANDARD
BEGIN:DAYLIGHT
TZOFFSETFROM:-0800
TZOFFSETTO:-0700
TZNAME:PDT
DTSTART:20260308T100000
END:DAYLIGHT
BEGIN:STANDARD
TZOFFSETFROM:-0700
TZOFFSETTO:-0800
TZNAME:PST
DTSTART:20261101T090000
END:STANDARD
BEGIN:DAYLIGHT
TZOFFSETFROM:-0800
TZOFFSETTO:-0700
TZNAME:PDT
DTSTART:20270314T100000
END:DAYLIGHT
BEGIN:STANDARD
TZOFFSETFROM:-0700
TZOFFSETTO:-0800
TZNAME:PST
DTSTART:20271107T090000
END:STANDARD
END:VTIMEZONE
BEGIN:VEVENT
DTSTART;TZID=America/Vancouver:20260321T093000
DTEND;TZID=America/Vancouver:20260321T163000
DTSTAMP:20260424T111923
CREATED:20251210T005425Z
LAST-MODIFIED:20260304T235353Z
UID:35851-1774085400-1774110600@www.vdldodgeball.ca
SUMMARY:Dodge For The Cure
DESCRIPTION:Our biggest fundraiser of the year is on its way!\nNew to Dodge for the Cure? Here’s the scoop: DFTC is a full co-ed draft tournament where teams compete not only on the court\, but also in a friendly fundraising showdown to see who can raise the most for the BC Cancer Foundation. Over the last few years\, VDL’s DFTC tournament has raised more than $100\,000 … and we’re just getting started! \nCheck Out Photos From Last Year \nDodgeball Style: VDL rules with 8.25″ balls\nTeams: Players will be drafted into teams.  \nRegister Now
URL:https://www.vdldodgeball.ca/event/dodge-for-the-cure/
LOCATION:David Thompson Secondary School\, 1755 E 55th Ave\, Vancouver\, British Columbia\, V5P 1Z7\, Canada
CATEGORIES:Tournament
END:VEVENT
BEGIN:VEVENT
DTSTART;TZID=America/Vancouver:20260114T190000
DTEND;TZID=America/Vancouver:20260114T220000
DTSTAMP:20260424T111923
CREATED:20251210T004506Z
LAST-MODIFIED:20251210T004506Z
UID:35849-1768417200-1768428000@www.vdldodgeball.ca
SUMMARY:Newbie tournament
DESCRIPTION:Ready to dip your toes into dodgeball?\nJoin us for our Newbie Tournament; open to anyone with 0–2 seasons of VDL experience! \nDetails: \n\nCost: $5 (cash or card accepted at the door)\nWho Can Join: Solo players\, pairs\, or full teams (everyone must register individually).\n\nIf you’re signing up as a pair or team\, just include the name’s of your requested teammates in the appropriate section below. Teams will be minimum 6 players\, and we’ll do our best to ensure each team has at least 2 non-male players.  All groups will be matched with a veteran captain to help guide and support you throughout the day! \nWe’ll be running a rules demo followed by some round robin games and  ending with a double-elimination playoff… tons of playtime and even more fun! \nREGISTRATION FORM
URL:https://www.vdldodgeball.ca/event/newbie-tournament/
LOCATION:David Thompson Secondary School\, 1755 E 55th Ave\, Vancouver\, British Columbia\, V5P 1Z7\, Canada
CATEGORIES:Tournament
END:VEVENT
BEGIN:VEVENT
DTSTART;TZID=America/Vancouver:20251203T190000
DTEND;TZID=America/Vancouver:20251204T220000
DTSTAMP:20260424T111923
CREATED:20251017T015844Z
LAST-MODIFIED:20251120T001243Z
UID:35227-1764788400-1764885600@www.vdldodgeball.ca
SUMMARY:Fruit Cup 3.0
DESCRIPTION:Welcome to Fruit Cup 3.0 — proudly hosted by VDL! 🌈\nWe’re back and ready for another fun\, competitive\, and community-centered tournament!\nThis time\, we’ll be playing in VDL’s Queer & Women’s Division style — using 7″ balls and following VDL rules. \nVDL is thrilled to be partnering with QMUNITY for this event.\nQMUNITY is a non-profit organization that supports and empowers 2SLGBTQIA+ individuals and their allies through programs\, resources\, and advocacy—creating safer\, more inclusive spaces across British Columbia. \nA portion of tournament proceeds will be donated to QMUNITY. We’ll also be opening an optional donation drive for anyone who’s feeling extra generous this holiday season and would like to contribute further. 🎁 \nVDL’s Queer Division was created to offer the 2SLGBTQIA+ community a safe\, joyful\, and inclusive space to connect\, grow\, and—of course—play some fierce dodgeball. \nWhile this event is inspired by VDL’s Queer Division\, allies are warmly welcome to join! We simply ask that you: \n\nRespect the space you’re entering.\nHonor everyone’s individuality\, gender identity\, and expression.\nUse and respect people’s preferred pronouns.\nTake time to learn about and appreciate the resilience and experiences of the queer community.\n\nAt the end of the day\, Fruit Cup is all about fun\, connection\, and fierce dodgeball energy! \nJoin our Fruit Cup 3.0 event page for updates and announcements—we can’t wait to see you on the court!\n \nREGISTER HERE
URL:https://www.vdldodgeball.ca/event/fruit-cup-3-0/
LOCATION:David Thompson Secondary School\, 1755 E 55th Ave\, Vancouver\, British Columbia\, V5P 1Z7\, Canada
CATEGORIES:Tournament
ORGANIZER;CN="Vancouver Dodgeball League":MAILTO:info@vdldodgeball.ca
END:VEVENT
BEGIN:VEVENT
DTSTART;TZID=America/Vancouver:20250329T080000
DTEND;TZID=America/Vancouver:20250329T170000
DTSTAMP:20260424T111923
CREATED:20250308T080758Z
LAST-MODIFIED:20250308T080758Z
UID:34739-1743235200-1743267600@www.vdldodgeball.ca
SUMMARY:Dodge for the Cure 2025
DESCRIPTION:Bring a friend (or two) and experience a day of dodgeball fun-all while supporting a great cause. Whether you’re a seasoned player or a first timer\, this charity event is the perfect chance to play\, connect\, and give back!
URL:https://www.vdldodgeball.ca/event/dodge-for-the-cure-2025/
LOCATION:David Thompson Secondary School\, 1755 E 55th Ave\, Vancouver\, British Columbia\, V5P 1Z7\, Canada
CATEGORIES:Tournament
ORGANIZER;CN="Vancouver Dodgeball League":MAILTO:info@vdldodgeball.ca
END:VEVENT
BEGIN:VEVENT
DTSTART;TZID=America/Vancouver:20241025T190000
DTEND;TZID=America/Vancouver:20241025T220000
DTSTAMP:20260424T111923
CREATED:20241012T000035Z
LAST-MODIFIED:20241011T224416Z
UID:34189-1729882800-1729893600@www.vdldodgeball.ca
SUMMARY:Halloween Draft Tournament
DESCRIPTION:Let the ghoul times roll at VDL’s Halloween Draft Tournament! \nWhen: Friday\, October 25th 7-10pm\nWhere: David Thompson Secondary School\nCost: $20+tax per person\nRegistration details: \n\n24 male and 12 female spots available (this will form 6 teams with 2 females on each team)\nCostumes are mandatory!\nRegister if you dare!
URL:https://www.vdldodgeball.ca/event/halloween-draft-tournament/
LOCATION:David Thompson Secondary School\, 1755 E 55th Ave\, Vancouver\, British Columbia\, V5P 1Z7\, Canada
CATEGORIES:Tournament
ATTACH;FMTTYPE=image/jpeg:https://www.vdldodgeball.ca/wp-content/uploads/2024/10/VDL-Halloween-Draft-Tournament-2024.jpeg
ORGANIZER;CN="Vancouver Dodgeball League":MAILTO:info@vdldodgeball.ca
END:VEVENT
BEGIN:VEVENT
DTSTART;VALUE=DATE:20240525
DTEND;VALUE=DATE:20240527
DTSTAMP:20260424T111923
CREATED:20230408T042318Z
LAST-MODIFIED:20240827T034352Z
UID:8269-1716595200-1716767999@www.vdldodgeball.ca
SUMMARY:Tournament of Champions 2024
DESCRIPTION:Tournament of Champions is back again by popular demand! This is one of VDL’s biggest tournaments. It is an extremely fun and competitive event that gets sold out every year! Teams from across Canada and the USA compete! Register as a team at reg.vdldodgeball.ca. \n\nWhen: May 25 and 26\, 2024\nWhere: David Thompson Secondary School\, Vancouver
URL:https://www.vdldodgeball.ca/event/tournament-of-champions-2023/
LOCATION:David Thompson Secondary School\, 1755 E 55th Ave\, Vancouver\, British Columbia\, V5P 1Z7\, Canada
CATEGORIES:Tournament
END:VEVENT
BEGIN:VEVENT
DTSTART;TZID=America/Vancouver:20240323T100000
DTEND;TZID=America/Vancouver:20240323T160000
DTSTAMP:20260424T111923
CREATED:20230408T042843Z
LAST-MODIFIED:20240827T035002Z
UID:8272-1711188000-1711209600@www.vdldodgeball.ca
SUMMARY:Dodge for the Cure 2024
DESCRIPTION:Come join us in Vancouver\, BC\, Canada for a day of dodgeball fun for a great cause! \nOur annual Dodge for the Cure is back! We are hosting a one day charity dodgeball tournament where proceeds will be going towards BC Cancer Foundation. \nIt is a coed draft style dodgeball tournament which mean you’ll be put into a team! \nRegistration fee is $50 plus taxes and that includes a long sleeve shirt. For registration\, please register on our website: https://www.reg.vdldodgeball.ca/dashboard/register \nWhether you’re a dodgeball pro or just looking to have a good time\, this event is perfect for everyone. So gather your friends\, sign up\, and get ready to dodge\, duck\, dip\, dive\, and dodge for a cure!
URL:https://www.vdldodgeball.ca/event/dodge-for-the-cure-2023/
LOCATION:David Thompson Secondary School\, 1755 E 55th Ave\, Vancouver\, British Columbia\, V5P 1Z7\, Canada
CATEGORIES:Tournament
ATTACH;FMTTYPE=image/jpeg:https://www.vdldodgeball.ca/wp-content/uploads/2023/04/Dodge-for-the-Cure-2024.jpg
END:VEVENT
END:VCALENDAR